BEGIN:VCALENDAR
PRODID:-//github.com/rianjs/ical.net//NONSGML ical.net 4.0//EN
VERSION:2.0
BEGIN:VEVENT
CLASS:PUBLIC
CREATED:20260424T093443
DESCRIPTION:Meet your local Safer Neighbourhood Officer - Ludlow Library  
 1400 -1500hrs
DTEND:20260428T150000
DTSTAMP:20260424T083443Z
DTSTART:20260428T140000
LOCATION:Ludlow Library\, 7-9 Parkway Lane\,SY8 2PG
SEQUENCE:0
STATUS:
SUMMARY:Open surgery
UID:C4B7AAD4E1A57F5B402E7B87AABB9DC1
END:VEVENT
END:VCALENDAR
