BEGIN:VCALENDAR
PRODID:-//github.com/rianjs/ical.net//NONSGML ical.net 4.0//EN
VERSION:2.0
BEGIN:VEVENT
CLASS:PUBLIC
CREATED:20260423T150014
DESCRIPTION:
DTEND:20260522T120000
DTSTAMP:20260423T140014Z
DTSTART:20260522T110000
LOCATION:Stoke Lacy\, \,HR7
SEQUENCE:0
SUMMARY:Bromyard SNT engagement van surgery - Stoke Lacy Village Hall
UID:BDE64E31C6063FF0B85E95608092F868
END:VEVENT
END:VCALENDAR
