BEGIN:VCALENDAR
PRODID:-//github.com/rianjs/ical.net//NONSGML ical.net 4.0//EN
VERSION:2.0
BEGIN:VEVENT
CLASS:PUBLIC
CREATED:20260423T123616
DESCRIPTION:
DTEND:20260513T130000
DTSTAMP:20260423T113616Z
DTSTART:20260513T120000
LOCATION:Siward James Close\,HR1
SEQUENCE:0
SUMMARY:Bromyard SNT engagement van surgery - Bodenham
UID:953B12DA306A30F6B07107C9CF1B6C86
END:VEVENT
END:VCALENDAR
