BEGIN:VCALENDAR
PRODID:-//github.com/rianjs/ical.net//NONSGML ical.net 4.0//EN
VERSION:2.0
BEGIN:VEVENT
CLASS:PUBLIC
CREATED:20260423T122055
DESCRIPTION:
DTEND:20260512T130000
DTSTAMP:20260423T112055Z
DTSTART:20260512T120000
LOCATION:Bredenbury Village Hall\, \,HR7 4TF
SEQUENCE:0
SUMMARY:Bromyard SNT engagement van surgery - Bredenbury
UID:199A571F2398A1431A67E695D34EBFCF
END:VEVENT
END:VCALENDAR
