BEGIN:VCALENDAR
PRODID:-//github.com/rianjs/ical.net//NONSGML ical.net 4.0//EN
VERSION:2.0
BEGIN:VEVENT
CLASS:PUBLIC
CREATED:20260422T192820
DESCRIPTION:
DTEND:20260519T183000
DTSTAMP:20260422T182820Z
DTSTART:20260519T173000
LOCATION:Griffiths Avenue\,TF4
SEQUENCE:0
STATUS:
SUMMARY:Doseley Mobile Surgery
UID:94DA7603FEC99166C499FF8F273221AD
END:VEVENT
END:VCALENDAR
