BEGIN:VCALENDAR
PRODID:-//github.com/rianjs/ical.net//NONSGML ical.net 4.0//EN
VERSION:2.0
BEGIN:VEVENT
CLASS:PUBLIC
CREATED:20260422T134734
DESCRIPTION:Police Surgery at Dobbies Garden Centre.
DTEND:20260508T110000
DTSTAMP:20260422T124734Z
DTSTART:20260508T100000
LOCATION:Dobbies Garden Centre Telford\, Station Road\,TF2 8JY
SEQUENCE:0
STATUS:
SUMMARY:Police Surgery
UID:E03FA58FCE1762960A4F1331940087CC
END:VEVENT
END:VCALENDAR
