BEGIN:VCALENDAR
PRODID:-//github.com/rianjs/ical.net//NONSGML ical.net 4.0//EN
VERSION:2.0
BEGIN:VEVENT
CLASS:PUBLIC
CREATED:20260422T134249
DESCRIPTION:Mobile Police Station at Edgmond Village Hall
DTEND:20260508T150000
DTSTAMP:20260422T124249Z
DTSTART:20260508T143000
LOCATION:Edgmond Village Hall\, 14 and 16 Shrewsbury Road\,TF10 8HU
SEQUENCE:0
STATUS:
SUMMARY:Mobile Police Station
UID:32C572050FE6A3DF921C59730D0189B3
END:VEVENT
END:VCALENDAR
