BEGIN:VCALENDAR
PRODID:-//github.com/rianjs/ical.net//NONSGML ical.net 4.0//EN
VERSION:2.0
BEGIN:VEVENT
CLASS:PUBLIC
CREATED:20260422T133735
DESCRIPTION:Mobile Police Surgery at Church Aston
DTEND:20260508T120000
DTSTAMP:20260422T123735Z
DTSTART:20260508T113000
LOCATION:Wallshead Way\,TF10
SEQUENCE:0
STATUS:
SUMMARY:Mobile Police Station
UID:027C146440BD47442A7472C89BE01700
END:VEVENT
END:VCALENDAR
