BEGIN:VCALENDAR
PRODID:-//github.com/rianjs/ical.net//NONSGML ical.net 4.0//EN
VERSION:2.0
BEGIN:VEVENT
CLASS:PUBLIC
CREATED:20260422T132929
DESCRIPTION:Newport Library Police Surgery
DTEND:20260502T152700
DTSTAMP:20260422T122929Z
DTSTART:20260502T132700
LOCATION:Newport Community Library\, 53-55 High Street\,TF10 7AT
SEQUENCE:0
STATUS:
SUMMARY:Police Surgery
UID:368B778C96EF31896B8D9C83DE89150E
END:VEVENT
END:VCALENDAR
