BEGIN:VCALENDAR
PRODID:-//github.com/rianjs/ical.net//NONSGML ical.net 4.0//EN
VERSION:2.0
BEGIN:VEVENT
CLASS:PUBLIC
CREATED:20260421T084023
DESCRIPTION:OP SAFPATH TALK - YEAR 9 - AYLESFORD SCHOOL
DTEND:20260507T094500
DTSTAMP:20260421T074023Z
DTSTART:20260507T091500
LOCATION:Aylesford School Warwick\, Tapping Way\,CV34 6XR
SEQUENCE:0
STATUS:
SUMMARY:OP SAFPATH TALK - YEAR 9 - AYLESFORD SCHOOL
UID:2CC7E10E84E5ABB950CF9A9D38B9B4F2
END:VEVENT
END:VCALENDAR
