BEGIN:VCALENDAR
PRODID:-//github.com/rianjs/ical.net//NONSGML ical.net 4.0//EN
VERSION:2.0
BEGIN:VEVENT
CLASS:PUBLIC
CREATED:20260421T083808
DESCRIPTION:
DTEND:20260603T110000
DTSTAMP:20260421T073808Z
DTSTART:20260603T100000
LOCATION:Warwick Library and Information Centre\, \,CV34 4RL
SEQUENCE:0
STATUS:
SUMMARY:Talk at Library
UID:D5F001F88705375F207772D72A5B33DA
END:VEVENT
END:VCALENDAR
