BEGIN:VCALENDAR
PRODID:-//github.com/rianjs/ical.net//NONSGML ical.net 4.0//EN
VERSION:2.0
BEGIN:VEVENT
CLASS:PUBLIC
CREATED:20260421T083108
DESCRIPTION:
DTEND:20260617T150000
DTSTAMP:20260421T073108Z
DTSTART:20260617T140000
LOCATION:Warwick Library and Information Centre\, \,CV34 4RL
SEQUENCE:0
STATUS:
SUMMARY:Cuppa with a Copper
UID:D157B383E734C5CD5622BFA6BF08B976
END:VEVENT
END:VCALENDAR
