BEGIN:VCALENDAR
PRODID:-//github.com/rianjs/ical.net//NONSGML ical.net 4.0//EN
VERSION:2.0
BEGIN:VEVENT
CLASS:PUBLIC
CREATED:20260421T091537
DESCRIPTION:“Cuppa with a Copper”\nFriday 1st May 2026\n15:00 – 16:30hrs\n
 SUN STREET\, \nRUGBY\, CV21 3NW. \n \n Your local policing team would lik
 e to invite you to come along for a “Cuppa with a Copper”.\n\nWe will be 
 available to talk about any concerns you may have in the local area\, if 
 you want to tell us about something that is or has happened near to where
  you live\, or you may just want to have a chat with us. \n\nWe can also 
 give you practical crime prevention advice\, from basic hints and tips to
  more detailed strategies on how to help you lower the risk of becoming a
  victim of crime.\n\nWe will have free tea\, coffee\, and biscuits\, you 
 just need to come along!\n	 	\n
DTEND:20260501T163000
DTSTAMP:20260421T081537Z
DTSTART:20260501T150000
LOCATION:Sun Street\,CV21
SEQUENCE:0
STATUS:
SUMMARY:cuppa with a copper Sun Street
END:VEVENT
END:VCALENDAR
