BEGIN:VCALENDAR
PRODID:-//github.com/rianjs/ical.net//NONSGML ical.net 4.0//EN
VERSION:2.0
BEGIN:VEVENT
CLASS:PUBLIC
CREATED:20260420T152437
DESCRIPTION:
DTEND:20260506T124500
DTSTAMP:20260420T142437Z
DTSTART:20260506T120000
LOCATION:JV H.O.M.E Cafe\,TN24 8FN
SEQUENCE:0
SUMMARY:Coffee with a cop
UID:F3DBB454B88EE87DC753AA501E466C6A
END:VEVENT
END:VCALENDAR
