BEGIN:VCALENDAR
PRODID:-//github.com/rianjs/ical.net//NONSGML ical.net 4.0//EN
VERSION:2.0
BEGIN:VEVENT
CLASS:PUBLIC
CREATED:20260420T134412
DESCRIPTION:Ward Surgery
DTEND:20260430T110000
DTSTAMP:20260420T124412Z
DTSTART:20260430T100000
LOCATION:Harbour Church\, Folkestone\, 130 Canterbury Road\,CT19 5NR
SEQUENCE:0
STATUS:
SUMMARY:Folkestone East Ward Surgery
UID:EC60B936F67D16B2F5FC3A6E550E7863
END:VEVENT
END:VCALENDAR
