BEGIN:VCALENDAR
PRODID:-//github.com/rianjs/ical.net//NONSGML ical.net 4.0//EN
VERSION:2.0
BEGIN:VEVENT
CLASS:PUBLIC
CREATED:20260420T133931
DESCRIPTION:
DTEND:20260505T120000
DTSTAMP:20260420T123931Z
DTSTART:20260505T110000
LOCATION:Packmores Community Centre\, Lyttelton Road\,CV34 5EP
SEQUENCE:0
STATUS:
SUMMARY:Packmores Pantry
UID:ECBF4C0F7F7697BFD2770797925AE932
END:VEVENT
END:VCALENDAR
