BEGIN:VCALENDAR
PRODID:-//github.com/rianjs/ical.net//NONSGML ical.net 4.0//EN
VERSION:2.0
BEGIN:VEVENT
CLASS:PUBLIC
CREATED:20260420T133402
DESCRIPTION:
DTEND:20260522T120000
DTSTAMP:20260420T123402Z
DTSTART:20260522T110000
LOCATION:Saltisford Gardens\,CV34 5RL
SEQUENCE:0
STATUS:
SUMMARY:Saltisford Gardens Coffee Morning
UID:3B415C70C833D10BC145DB476C5F0403
END:VEVENT
END:VCALENDAR
