BEGIN:VCALENDAR
PRODID:-//github.com/rianjs/ical.net//NONSGML ical.net 4.0//EN
VERSION:2.0
BEGIN:VEVENT
CLASS:PUBLIC
CREATED:20260420T121339
DESCRIPTION:to sign local residents up to nominated neighbour
DTEND:20260515T140000
DTSTAMP:20260420T111339Z
DTSTART:20260515T100000
LOCATION:Lloyds Bank\, 19 Church Green East\,B98 8BZ
SEQUENCE:0
STATUS:
SUMMARY:Nominated neighbour with Rich waterhouse\, bank event
UID:86715771781A1DE2D82FD5DC424C5D43
END:VEVENT
END:VCALENDAR
