BEGIN:VCALENDAR
PRODID:-//github.com/rianjs/ical.net//NONSGML ical.net 4.0//EN
VERSION:2.0
BEGIN:VEVENT
CLASS:PUBLIC
CREATED:20260420T120735
DESCRIPTION:to sign people up to nominated neighbours who might be affecte
 d by cold callers or fraud
DTEND:20260501T140000
DTSTAMP:20260420T110735Z
DTSTART:20260501T100000
LOCATION:Halifax\, 8-12 Evesham Walk\,B97 4EX
SEQUENCE:0
STATUS:
SUMMARY:Nominated Neighbour banking event
UID:9EE0F105E781790EDF8E8843E5650163
END:VEVENT
END:VCALENDAR
