BEGIN:VCALENDAR
PRODID:-//github.com/rianjs/ical.net//NONSGML ical.net 4.0//EN
VERSION:2.0
BEGIN:VEVENT
CLASS:PUBLIC
CREATED:20260419T224525
DESCRIPTION:Kingsbury Cuppa with a copper - officers will attend location 
 where local members of the community can come down for a chat with local 
 officers\, be signposted\, raise concerns as well as receive community sa
 fety advice and crime prevention advice.
DTEND:20260724T120000
DTSTAMP:20260419T214525Z
DTSTART:20260724T100000
LOCATION:B78 2LG\, Pear Tree Avenue\,B78 2LG
SEQUENCE:0
STATUS:
SUMMARY:Kingsbury - Cuppa with a copper
UID:C5BF450E73FD652E04F2B3E27DF1CDBB
END:VEVENT
END:VCALENDAR
