BEGIN:VCALENDAR
PRODID:-//github.com/rianjs/ical.net//NONSGML ical.net 4.0//EN
VERSION:2.0
BEGIN:VEVENT
CLASS:PUBLIC
CREATED:20260419T222021
DESCRIPTION:Cuppa with a copper\, Curdworth - officers will attend locatio
 n where local members of the community can come down for a chat with loca
 l officers\, be signposted\, raise concerns as well as receive community 
 safety advice and crime prevention advice.
DTEND:20260626T150000
DTSTAMP:20260419T212021Z
DTSTART:20260626T130000
LOCATION:B76 9HH\, Coleshill Road\,B76 9HH
SEQUENCE:0
STATUS:
SUMMARY:Curdworth Cuppa with a copper
UID:15099D58A617C4E85469B2D6EFE73AA9
END:VEVENT
END:VCALENDAR
