BEGIN:VCALENDAR
PRODID:-//github.com/rianjs/ical.net//NONSGML ical.net 4.0//EN
VERSION:2.0
BEGIN:VEVENT
CLASS:PUBLIC
CREATED:20260419T215817
DESCRIPTION:Water Orton Cuppa with a copper\, officers will attend locatio
 n where local members of the community can come down for a chat with loca
 l officers\, be signposted\, raise concerns as well as receive community 
 safety advice and crime prevention advice.
DTEND:20260509T120000
DTSTAMP:20260419T205817Z
DTSTART:20260509T100000
LOCATION:B46 1SN\, Mickle Meadow\,B46 1SN
SEQUENCE:0
STATUS:
SUMMARY:Water Orton Cuppa with a Copper
UID:F755CD3174FE3B815BADCC296FC60097
END:VEVENT
END:VCALENDAR
