BEGIN:VCALENDAR
PRODID:-//github.com/rianjs/ical.net//NONSGML ical.net 4.0//EN
VERSION:2.0
BEGIN:VEVENT
CLASS:PUBLIC
CREATED:20260419T170729
DESCRIPTION:
DTEND:20260605T113000
DTSTAMP:20260419T160729Z
DTSTART:20260605T103000
LOCATION:Village Hall\,TN26 3LL
SEQUENCE:0
SUMMARY:High Halden Coffee Morning
UID:7A8309AB35035F43ACF0D12C7818C5E2
END:VEVENT
END:VCALENDAR
