BEGIN:VCALENDAR
PRODID:-//github.com/rianjs/ical.net//NONSGML ical.net 4.0//EN
VERSION:2.0
BEGIN:VEVENT
CLASS:PUBLIC
CREATED:20260419T160514
DESCRIPTION:Sixfields surgery outside the cinema
DTEND:20260424T130000
DTSTAMP:20260419T150514Z
DTSTART:20260424T110000
LOCATION:ODEON Luxe Northampton\, Weedon Road\,NN5 5QJ
SEQUENCE:0
STATUS:
SUMMARY:sixfields surgery
UID:F786A02C0B8EE8EF4C69968AED2E0850
END:VEVENT
END:VCALENDAR
