BEGIN:VCALENDAR
PRODID:-//github.com/rianjs/ical.net//NONSGML ical.net 4.0//EN
VERSION:2.0
BEGIN:VEVENT
CLASS:PUBLIC
CREATED:20260419T134446
DESCRIPTION:Car rally at Brampton Primary School.
DTEND:20260426T160000
DTSTAMP:20260419T124446Z
DTSTART:20260426T100000
LOCATION:NN6 8AW\, \,NN6 8AW
SEQUENCE:0
STATUS:
SUMMARY:Classic Car Rally
UID:3A655A51214F487C749C481605F33E9A
END:VEVENT
END:VCALENDAR
