BEGIN:VCALENDAR
PRODID:-//github.com/rianjs/ical.net//NONSGML ical.net 4.0//EN
VERSION:2.0
BEGIN:VEVENT
CLASS:PUBLIC
CREATED:20260419T112849
DESCRIPTION:
DTEND:20260428T150000
DTSTAMP:20260419T102849Z
DTSTART:20260428T130000
LOCATION:Cafe Life\, Oswestry\, Cabin Lane\,SY11 2LQ
SEQUENCE:0
SUMMARY:Community Engagement at Cabin Lane Café
UID:F4C7250CAF915FCCE8157F18E85D8745
END:VEVENT
END:VCALENDAR
