BEGIN:VCALENDAR
PRODID:-//github.com/rianjs/ical.net//NONSGML ical.net 4.0//EN
VERSION:2.0
BEGIN:VEVENT
CLASS:PUBLIC
CREATED:20260419T111956
DESCRIPTION:
DTEND:20260427T140000
DTSTAMP:20260419T101955Z
DTSTART:20260427T120000
LOCATION:Oswestry Library\, Arthur Street\,SY11 1JN
SEQUENCE:0
SUMMARY:Community Engagement at Oswestry Library
UID:83BBA0BF346990775D3AEF9E62462FC5
END:VEVENT
END:VCALENDAR
