BEGIN:VCALENDAR
PRODID:-//github.com/rianjs/ical.net//NONSGML ical.net 4.0//EN
VERSION:2.0
BEGIN:VEVENT
CLASS:PUBLIC
CREATED:20260419T101324
DESCRIPTION:Southern Housing neighbourhood inspection - Apollo Close\, Dav
 entry
DTEND:20260603T123000
DTSTAMP:20260419T091324Z
DTSTART:20260603T103000
LOCATION:Apollo Close\,NN11
SEQUENCE:0
STATUS:
SUMMARY:Southern Housing neighbourhood inspection - Apollo Close\, Daventry
UID:1770E8F347AD0C6BCFCF908762E918D6
END:VEVENT
END:VCALENDAR
