BEGIN:VCALENDAR
PRODID:-//github.com/rianjs/ical.net//NONSGML ical.net 4.0//EN
VERSION:2.0
BEGIN:VEVENT
CLASS:PUBLIC
CREATED:20260419T094105
DESCRIPTION:Drayton Grange FC is celebrating 50 years of community footbal
 l fun day on 11th July 12-4.
DTEND:20260711T160000
DTSTAMP:20260419T084105Z
DTSTART:20260711T120000
LOCATION:Drayton Grange Football Club\, 3 Royal Star Drive\,NN11 9FZ
SEQUENCE:0
STATUS:
SUMMARY:Drayton Grange FC 50 years of community football fun day
UID:1F5B1CEC7006B3BE56D76F5A09672261
END:VEVENT
END:VCALENDAR
