BEGIN:VCALENDAR
PRODID:-//github.com/rianjs/ical.net//NONSGML ical.net 4.0//EN
VERSION:2.0
BEGIN:VEVENT
CLASS:PUBLIC
CREATED:20260418T160433
DESCRIPTION:chnace for locals to meet officer and raise nay concerns.
DTEND:20260529T193000
DTSTAMP:20260418T150433Z
DTSTART:20260529T183000
LOCATION:KC Active - Sports and Recreation facility in Kings Cliffe\, Stat
 ion Road\,PE8 6YH
SEQUENCE:0
STATUS:
SUMMARY:Meet your local officer Kings Cliffe
UID:AAB99BB723B7B896A592631590487D80
END:VEVENT
END:VCALENDAR
