BEGIN:VCALENDAR
PRODID:-//github.com/rianjs/ical.net//NONSGML ical.net 4.0//EN
VERSION:2.0
BEGIN:VEVENT
CLASS:PUBLIC
CREATED:20260418T153509
DESCRIPTION:Chance for local residents to meet local officer and raise any
  conerns.
DTEND:20260423T153000
DTSTAMP:20260418T143509Z
DTSTART:20260423T143000
LOCATION:Main Street\,PE8
SEQUENCE:0
STATUS:
SUMMARY:Meet your local officer Glapthorn
UID:C204D6B67E415AA37AA17A3F28B115B9
END:VEVENT
END:VCALENDAR
