BEGIN:VCALENDAR
PRODID:-//github.com/rianjs/ical.net//NONSGML ical.net 4.0//EN
VERSION:2.0
BEGIN:VEVENT
CLASS:PUBLIC
CREATED:20260418T153219
DESCRIPTION:
DTEND:20260520T153000
DTSTAMP:20260418T143219Z
DTSTART:20260520T143000
LOCATION:Tesco Express\, Brunel Road\,TF3 2BF
SEQUENCE:0
STATUS:
SUMMARY:Malinslee Surgery
UID:0CAF3231D6D94A9912D2A5F0B461F563
END:VEVENT
END:VCALENDAR
