BEGIN:VCALENDAR
PRODID:-//github.com/rianjs/ical.net//NONSGML ical.net 4.0//EN
VERSION:2.0
BEGIN:VEVENT
CLASS:PUBLIC
CREATED:20260418T153053
DESCRIPTION:
DTEND:20260521T173000
DTSTAMP:20260418T143053Z
DTSTART:20260521T163000
LOCATION:Oak Tree Centre\, \,TF4 3EG
SEQUENCE:0
STATUS:
SUMMARY:Lightmoor Police Surgery
UID:A17555E14701B3457528CE2F81F75701
END:VEVENT
END:VCALENDAR
