BEGIN:VCALENDAR
PRODID:-//github.com/rianjs/ical.net//NONSGML ical.net 4.0//EN
VERSION:2.0
BEGIN:VEVENT
CLASS:PUBLIC
CREATED:20260418T153029
DESCRIPTION:Chance for residents to meet local officer and raise concerns.
DTEND:20260423T141500
DTSTAMP:20260418T143029Z
DTSTART:20260423T131500
LOCATION:Waitrose & Partners\, 66 East Road\,PE8 8BZ
SEQUENCE:0
STATUS:
SUMMARY:Meet your local officer Oundle
UID:642D30D7FB4CE90F1FADB34681582B86
END:VEVENT
END:VCALENDAR
