BEGIN:VCALENDAR
PRODID:-//github.com/rianjs/ical.net//NONSGML ical.net 4.0//EN
VERSION:2.0
BEGIN:VEVENT
CLASS:PUBLIC
CREATED:20260418T144121
DESCRIPTION:Joint beat bus surgery with M.P
DTEND:20260425T114500
DTSTAMP:20260418T134121Z
DTSTART:20260425T104500
LOCATION:NN10 0PT\, \,NN10 0PT
SEQUENCE:0
STATUS:
SUMMARY:Beat Bus - Neighbourhood Team & M.P
UID:9FA869867B2B85CEC04E99F66B3B67EA
END:VEVENT
END:VCALENDAR
