BEGIN:VCALENDAR
PRODID:-//github.com/rianjs/ical.net//NONSGML ical.net 4.0//EN
VERSION:2.0
BEGIN:VEVENT
CLASS:PUBLIC
CREATED:20260418T143644
DESCRIPTION:Joint Beat Bus surgery with M.P
DTEND:20260425T103000
DTSTAMP:20260418T133644Z
DTSTART:20260425T093000
LOCATION:NN10 0DJ\, Portland Road\,NN10 0DJ
SEQUENCE:0
STATUS:
SUMMARY:Beat Bus - Neighbourhood Team & M.P
UID:50692A7267B886C0ED900E24B83E3FF1
END:VEVENT
END:VCALENDAR
