BEGIN:VCALENDAR
PRODID:-//github.com/rianjs/ical.net//NONSGML ical.net 4.0//EN
VERSION:2.0
BEGIN:VEVENT
CLASS:PUBLIC
CREATED:20260418T133746
DESCRIPTION:
DTEND:20260423T120000
DTSTAMP:20260418T123746Z
DTSTART:20260423T100000
LOCATION:Deal Court\,NN1
SEQUENCE:0
SUMMARY:Community Engagement Beat Bus Event at Deal Court
UID:2AB161065D072CE3BE9788B624EDD198
END:VEVENT
END:VCALENDAR
