BEGIN:VCALENDAR
PRODID:-//github.com/rianjs/ical.net//NONSGML ical.net 4.0//EN
VERSION:2.0
BEGIN:VEVENT
CLASS:PUBLIC
CREATED:20260418T103619
DESCRIPTION:
DTEND:20260612T121500
DTSTAMP:20260418T093619Z
DTSTART:20260612T113000
LOCATION:The Food Shed @ Spadework\, Teston Road\,ME19 5NA
SEQUENCE:0
STATUS:
SUMMARY:Meet your local officer
UID:8336CF8E39B9D3C50D1AEA00F91646BD
END:VEVENT
END:VCALENDAR
