BEGIN:VCALENDAR
PRODID:-//github.com/rianjs/ical.net//NONSGML ical.net 4.0//EN
VERSION:2.0
BEGIN:VEVENT
CLASS:PUBLIC
CREATED:20260418T081345
DESCRIPTION:Leegomery family fun day\, Police engagement van with communit
 y focus.
DTEND:20260905T123000
DTSTAMP:20260418T071345Z
DTSTART:20260905T103000
LOCATION:TF1 6QG\, Hadley Park Road\,TF1 6QG
SEQUENCE:0
STATUS:
SUMMARY:Leegomery Family Fun Day
UID:4037C4D06648EB2C3EBFC3C321D6AE55
END:VEVENT
END:VCALENDAR
