BEGIN:VCALENDAR
PRODID:-//github.com/rianjs/ical.net//NONSGML ical.net 4.0//EN
VERSION:2.0
BEGIN:VEVENT
CLASS:PUBLIC
CREATED:20260417T202317
DESCRIPTION:West Porch Cafe After school youth group
DTEND:20260707T161500
DTSTAMP:20260417T192317Z
DTSTART:20260707T153000
LOCATION:PE8 4AL\, North Street\,PE8 4AL
SEQUENCE:0
STATUS:
SUMMARY:WEST PORCH CAFE
UID:0B1A13EA7E3A5A5D53264AC713432BDA
END:VEVENT
END:VCALENDAR
