BEGIN:VCALENDAR
PRODID:-//github.com/rianjs/ical.net//NONSGML ical.net 4.0//EN
VERSION:2.0
BEGIN:VEVENT
CLASS:PUBLIC
CREATED:20260417T201834
DESCRIPTION:West Porch Cafe - After school club
DTEND:20260609T171500
DTSTAMP:20260417T191834Z
DTSTART:20260609T153000
LOCATION:PE8 4AL\, North Street\,PE8 4AL
SEQUENCE:0
STATUS:
SUMMARY:WEST PORCH CAFE
UID:4BFC7733671030B1EBC55C0F4927FC06
END:VEVENT
END:VCALENDAR
