BEGIN:VCALENDAR
PRODID:-//github.com/rianjs/ical.net//NONSGML ical.net 4.0//EN
VERSION:2.0
BEGIN:VEVENT
CLASS:PUBLIC
CREATED:20260417T195800
DESCRIPTION:Daventry Town Council have organised The 2026 Daventry Pride E
 vent\, which takes place on New Street Park (Skate Park)\, Daventry.  Pol
 ice are invited to interact with the community.
DTEND:20260704T150000
DTSTAMP:20260417T185800Z
DTSTART:20260704T110000
LOCATION:Daventry Skatepark\, New Street\,NN11 4BS
SEQUENCE:0
STATUS:
SUMMARY:2026 Daventry Pride Event
UID:B88C7F7D0CF425C6CB45B4DAA2BC4B86
END:VEVENT
END:VCALENDAR
