BEGIN:VCALENDAR
PRODID:-//github.com/rianjs/ical.net//NONSGML ical.net 4.0//EN
VERSION:2.0
BEGIN:VEVENT
CLASS:PUBLIC
CREATED:20260417T161901
DESCRIPTION:Police surgery
DTEND:20260423T120000
DTSTAMP:20260417T151901Z
DTSTART:20260423T100000
LOCATION:NN15 6NJ\, Barton Road\,NN15 6NJ
SEQUENCE:0
STATUS:
SUMMARY:Police surgery in Wicksteed Park
UID:44F807E779ACCC22AABC03BE6A854EE6
END:VEVENT
END:VCALENDAR
