BEGIN:VCALENDAR
PRODID:-//github.com/rianjs/ical.net//NONSGML ical.net 4.0//EN
VERSION:2.0
BEGIN:VEVENT
CLASS:PUBLIC
CREATED:20260417T133158
DESCRIPTION:
DTEND:20260715T163000
DTSTAMP:20260417T123158Z
DTSTART:20260715T153000
LOCATION:Higham Memorial Hall\, \,ME3 7JL
SEQUENCE:0
STATUS:
SUMMARY:Public Engagement
UID:104EDEA10A8CF8254F0CDDEA668EE5D5
END:VEVENT
END:VCALENDAR
