BEGIN:VCALENDAR
PRODID:-//github.com/rianjs/ical.net//NONSGML ical.net 4.0//EN
VERSION:2.0
BEGIN:VEVENT
CLASS:PUBLIC
CREATED:20260417T133018
DESCRIPTION:
DTEND:20260622T163000
DTSTAMP:20260417T123018Z
DTSTART:20260622T153000
LOCATION:Higham Memorial Hall\, \,ME3 7JL
SEQUENCE:0
STATUS:
SUMMARY:Public Engagement
UID:1F8E24BFE7ADD9F7601458524BDF9FEE
END:VEVENT
END:VCALENDAR
