BEGIN:VCALENDAR
PRODID:-//github.com/rianjs/ical.net//NONSGML ical.net 4.0//EN
VERSION:2.0
BEGIN:VEVENT
CLASS:PUBLIC
CREATED:20260417T132852
DESCRIPTION:
DTEND:20260520T163000
DTSTAMP:20260417T122852Z
DTSTART:20260520T153000
LOCATION:Higham Memorial Hall\, \,ME3 7JL
SEQUENCE:0
STATUS:
SUMMARY:Public Engagement
UID:DAC9B380D603899C1F2BD296875C116F
END:VEVENT
END:VCALENDAR
