BEGIN:VCALENDAR
PRODID:-//github.com/rianjs/ical.net//NONSGML ical.net 4.0//EN
VERSION:2.0
BEGIN:VEVENT
CLASS:PUBLIC
CREATED:20260417T132726
DESCRIPTION:
DTEND:20260715T153000
DTSTAMP:20260417T122726Z
DTSTART:20260715T143000
LOCATION:Saint John the Baptist Meopham\, Wrotham Road\,DA13 0AA
SEQUENCE:0
STATUS:
SUMMARY:Public Engagement
UID:4C3C0EB57F67B5DCDBF5591E6E7E7627
END:VEVENT
END:VCALENDAR
