BEGIN:VCALENDAR
PRODID:-//github.com/rianjs/ical.net//NONSGML ical.net 4.0//EN
VERSION:2.0
BEGIN:VEVENT
CLASS:PUBLIC
CREATED:20260417T132539
DESCRIPTION:
DTEND:20260622T153000
DTSTAMP:20260417T122539Z
DTSTART:20260622T143000
LOCATION:Saint John the Baptist Meopham\, Wrotham Road\,DA13 0AA
SEQUENCE:0
STATUS:
SUMMARY:Community Engagement
UID:71AA0145541341F6620943835C7223E1
END:VEVENT
END:VCALENDAR
