BEGIN:VCALENDAR
PRODID:-//github.com/rianjs/ical.net//NONSGML ical.net 4.0//EN
VERSION:2.0
BEGIN:VEVENT
CLASS:PUBLIC
CREATED:20260417T132415
DESCRIPTION:
DTEND:20260520T153000
DTSTAMP:20260417T122415Z
DTSTART:20260520T143000
LOCATION:Saint John the Baptist Meopham\, Wrotham Road\,DA13 0AA
SEQUENCE:0
STATUS:
SUMMARY:Community Engagement
UID:CFA7BB2F6BF1BF2B668BCC9209D81FEC
END:VEVENT
END:VCALENDAR
