BEGIN:VCALENDAR
PRODID:-//github.com/rianjs/ical.net//NONSGML ical.net 4.0//EN
VERSION:2.0
BEGIN:VEVENT
CLASS:PUBLIC
CREATED:20260417T132126
DESCRIPTION:
DTEND:20260715T143000
DTSTAMP:20260417T122126Z
DTSTART:20260715T133000
LOCATION:Istead Rise Community Centre\, Worcester Close\,DA13 9LB
SEQUENCE:0
STATUS:
SUMMARY:Public Engagement
UID:E9C3D76E87B4FE8117BDC3D42A2089FF
END:VEVENT
END:VCALENDAR
